BEGIN:VCALENDAR
VERSION:2.0
PRODID:-//NachbarschaftsKultur - ECPv6.15.18//NONSGML v1.0//EN
CALSCALE:GREGORIAN
METHOD:PUBLISH
X-ORIGINAL-URL:https://www.nachbarschaftskultur.at
X-WR-CALDESC:Veranstaltungen für NachbarschaftsKultur
REFRESH-INTERVAL;VALUE=DURATION:PT1H
X-Robots-Tag:noindex
X-PUBLISHED-TTL:PT1H
BEGIN:VTIMEZONE
TZID:UTC
BEGIN:STANDARD
TZOFFSETFROM:+0000
TZOFFSETTO:+0000
TZNAME:UTC
DTSTART:20250101T000000
END:STANDARD
END:VTIMEZONE
BEGIN:VEVENT
DTSTART;TZID=UTC:20260420T150000
DTEND;TZID=UTC:20260420T170000
DTSTAMP:20260423T094748
CREATED:20260416T061650Z
LAST-MODIFIED:20260416T061751Z
UID:3092-1776697200-1776704400@www.nachbarschaftskultur.at
SUMMARY:Tanzen ab der Lebensmitte - Groß-Siegharts
DESCRIPTION:Tanzen ab der Lebensmitte in Groß-Siegharts \nTanzen ist eine wunderbare Möglichkeit\, auch im Alter aktiv und fit zu bleiben. Sich zur Musik bewegen bringt nicht nur Spaß\, sondern fördert auch die Beweglichkeit\, das Gleichgewicht und die Koordination. Es stärkt das Herz-Kreislauf-System und kann helfen\, Stress abzubauen. \nGleichzeitig ist Tanzen eine wunderbare Gelegenheit\, neue Menschen kennenzulernen und gemeinsam Spaß zu haben. \nProbieren Sie es aus und erleben Sie\, wie Tanzen Körper und Geist belebt! \nKursleiterin: Melitta Biringer\nKurbeitrag: 5€ pro Peron\nAnmeldung für NEUE Tänzer:innen erforderlich.\nBei Fragen bitte unter 0664 388 87 03 anrufen. \nBenötigen sie eine Fahrgelegenheit?\nFalls Sie Unterstützung beim Transport benötigen\, wenden Sie sich bitte an die Nachbarschaftskultur unter 0664 50 30 585.\nDiese Organisiert gerne eine Mitfahrgelegenheit.
URL:https://www.nachbarschaftskultur.at/veranstaltung/tanzen-ab-der-lebensmitte-gross-siegharts/
ATTACH;FMTTYPE=application/pdf:https://www.nachbarschaftskultur.at/wp-content/uploads/2026/04/Tanzen-ab-der-Lebensmitte-Gr-Siegharts-Termine-04.05.2026.pdf
END:VEVENT
BEGIN:VEVENT
DTSTART;TZID=UTC:20260415T090000
DTEND;TZID=UTC:20260415T110000
DTSTAMP:20260423T094748
CREATED:20260402T091247Z
LAST-MODIFIED:20260402T091247Z
UID:3029-1776243600-1776250800@www.nachbarschaftskultur.at
SUMMARY:Erzählcafé Eggern - Kutscherklause
DESCRIPTION:Wir laden Sie herzlich ein\, in gemütlicher Runde bei Kaffee und Kuchen gemeinsam zu erzählen\, zuzuhören und Erinnerungen zu teilen.\nJedes Treffen widmen wir einem neuen Thema\, das zum Nachdenken anregt und spannende Gespräche ermöglicht. \nOb alte Zeiten\, besondere Erlebnisse oder kleine Alltagsgeschichten – Ihre Geschichten sind wertvoll und bereichern unsere Gemeinschaft. \nKommen Sie vorbei\, lernen Sie neue Menschen kennen und genießen Sie einen Nachmittag voller Begegnungen und Austausch. \nErzählcafé in der Kutscherklause von 9-11Uhr\nThemen werden noch bekannt gegeben \n15. April 2026   \n13. Mai 2026    \n10. Juni 2026    \nBenötigen sie eine Fahrgelegenheit?\nFalls Sie Unterstützung beim Transport benötigen\, wenden Sie sich bitte an die Nachbarschaftskultur unter 0664 50 30 525.\nDiese Organisiert gerne eine Mitfahrgelegenheit.
URL:https://www.nachbarschaftskultur.at/veranstaltung/erzaehlcafe-eggern-kutscherklause/
END:VEVENT
BEGIN:VEVENT
DTSTART;TZID=UTC:20260414T150000
DTEND;TZID=UTC:20260414T170000
DTSTAMP:20260423T094748
CREATED:20260402T084628Z
LAST-MODIFIED:20260402T090356Z
UID:3020-1776178800-1776186000@www.nachbarschaftskultur.at
SUMMARY:Erzählcafe Haugschlag - Gasthaus Mader
DESCRIPTION:Wir laden Sie herzlich ein\, in gemütlicher Runde bei Kaffee und Kuchen gemeinsam zu erzählen\, zuzuhören und Erinnerungen zu teilen.\nJedes Treffen widmen wir einem neuen Thema\, das zum Nachdenken anregt und spannende Gespräche ermöglicht. \nOb alte Zeiten\, besondere Erlebnisse oder kleine Alltagsgeschichten – Ihre Geschichten sind wertvoll und bereichern unsere Gemeinschaft. \nKommen Sie vorbei\, lernen Sie neue Menschen kennen und genießen Sie einen Nachmittag voller Begegnungen und Austausch. \nThemen: \n14. April 2026  Meine Kindheit – Spiele\, Streiche\, Lieblingsorte \n12. Mai 2026   Redensarten und Dialektwörter \n09. Juni 2026   Einfach g´sund – Hausmittel und Zaubertränke \nBenötigen sie eine Fahrgelegenheit?\nFalls Sie Unterstützung beim Transport benötigen\, wenden Sie sich bitte an die Nachbarschaftskultur unter 0664 50 30 525.\nDiese Organisiert gerne eine Mitfahrgelegenheit.
URL:https://www.nachbarschaftskultur.at/veranstaltung/erzaehlcafe-haugschlag/
ATTACH;FMTTYPE=application/pdf:https://www.nachbarschaftskultur.at/wp-content/uploads/2026/04/Plakat_ReingersH.schl_.pdf
END:VEVENT
END:VCALENDAR